BEGIN:VCALENDAR
VERSION:2.0
PRODID:-//Squarespace Inc/Squarespace 6//v6//EN
BEGIN:VEVENT
UID:5c3bb87f758d4640ed7f5e35@squarespace.com
DTSTAMP:20190113T225920Z
DTSTART:20190126T230000Z
DTEND:20190127T020000Z
SUMMARY:Auckland Heart Circle and Pot Luck Dinner
END:VEVENT
END:VCALENDAR
