BEGIN:VCALENDAR
VERSION:2.0
PRODID:-//Squarespace Inc/Squarespace 6//v6//EN
BEGIN:VEVENT
UID:5d379a1fe6bcfb0001357112@squarespace.com
DTSTAMP:20190726T080030Z
DTSTART:20191024T160000Z
DTEND:20191028T160000Z
SUMMARY:RadFaeNZ Beltane Gathering at Autumn Farm
GEO:-40.879209;172.821181
LOCATION:Autumn Farm\, 37 Central Takaka Road\, Takaka\, Tasman\, 7183\, Ne
 w Zealand
END:VEVENT
END:VCALENDAR
