BEGIN:VCALENDAR
VERSION:2.0
PRODID:-//Squarespace Inc/Squarespace 6//v6//EN
BEGIN:VEVENT
UID:5c301fb7758d467874697387@squarespace.com
DTSTAMP:20190113T230704Z
DTSTART:20190320T160000Z
DTEND:20190325T160000Z
SUMMARY:RadFANZ Autumn Equinox Gathering 2019: Altar Raising 
GEO:-39.237837;175.602364
LOCATION:North Island\, New Zealand
END:VEVENT
END:VCALENDAR
