BEGIN:VCALENDAR
VERSION:2.0
PRODID:-//Squarespace Inc/Squarespace 6//v6//EN
BEGIN:VEVENT
UID:5de4b171d6b49b1a7a228875@squarespace.com
DTSTAMP:20191215T094649Z
DTSTART:20200418T160000Z
DTEND:20200425T160000Z
SUMMARY:Sex Magick April 2020
END:VEVENT
END:VCALENDAR
